BEGIN:VCALENDAR
VERSION:2.0
PRODID:-//Opportune Safaris - ECPv6.15.20//NONSGML v1.0//EN
CALSCALE:GREGORIAN
METHOD:PUBLISH
X-ORIGINAL-URL:https://opportunesafaris.com
X-WR-CALDESC:Events for Opportune Safaris
REFRESH-INTERVAL;VALUE=DURATION:PT1H
X-Robots-Tag:noindex
X-PUBLISHED-TTL:PT1H
BEGIN:VTIMEZONE
TZID:UTC
BEGIN:STANDARD
TZOFFSETFROM:+0000
TZOFFSETTO:+0000
TZNAME:UTC
DTSTART:20240101T000000
END:STANDARD
END:VTIMEZONE
BEGIN:VEVENT
DTSTART;TZID=UTC:20251101T080000
DTEND;TZID=UTC:20251101T183000
DTSTAMP:20260421T184721
CREATED:20251001T113449Z
LAST-MODIFIED:20251002T104830Z
UID:2131-1761984000-1762021800@opportunesafaris.com
SUMMARY:Akagera Savannah Day Safari
DESCRIPTION:Journey to the Savannah Kingdom: A Big Five Adventure in a Day!\nSwap the rolling hills of Kigali for the sun-drenched plains of Akagera National Park\, Rwanda’s magnificent wildlife sanctuary. Join Opportunte Safaris on an action-packed day trip into the wild heart of Rwanda. This isn’t just a drive; it’s a quest into a landscape reborn\, a thriving savannah teeming with majestic animals\, including Africa’s legendary Big Five. \n  \n\nTrip Itinerary: \n\n5:00 AM: Departure from Kigali An early start is key! We will pick you up from our designated meeting point in Kigali. As we drive east\, watch the sunrise cast a golden glow over Rwanda’s beautiful countryside.\n7:30 AM: Arrival at Akagera National Park We arrive at the park entrance\, where you can feel the untamed energy of the bush. While your guide handles the park formalities\, you can enjoy a quick coffee and prepare for the adventure ahead.\n8:00 AM: The Game Drive Begins! Southern Circuit We enter the park and immediately begin our search for wildlife. The southern region is known for its rolling hills and abundance of animals. Keep your eyes peeled for giraffes\, herds of impala\, stately waterbuck\, zebra\, and families of warthogs. We’ll drive along the picturesque lake shores\, home to enormous pods of hippos and countless water birds.\n12:30 PM: Picnic in the Wild We will find a safe and scenic designated picnic spot to stop for lunch. Enjoy a delicious packed meal surrounded by the sights and sounds of the African savannah – an experience in itself!\n1:30 PM: Afternoon Game Drive – The Northern Plains After lunch\, we drive north to the Kilala Plains. This classic savannah landscape offers breathtaking panoramic views and is a prime location for spotting predators. This is our best chance to find the park’s majestic lions and\, with exceptional luck\, the elusive black rhino. The sheer concentration of animals in this area is a spectacle to behold.\n4:00 PM: Exit the Park As the afternoon light softens\, we will begin our drive towards the northern exit gate\, enjoying one last scan of the plains for wildlife.\n7:00 PM (approx.): Arrival in Kigali We will arrive back at the original meeting point in Kigali\, filled with incredible photos and memories of your wild day out\, concluding a truly unforgettable encounter with Rwanda’s savannah kingdom.\n\n  \n\nTour Package Details: \nPrice: $100 USD per person \nWhat’s Included: \n\nRound-trip transportation from Kigali in a comfortable\, custom 4×4 safari vehicle with a pop-up roof.\nAll park entrance fees.\nA full-day game drive through Akagera National Park.\nThe services of a professional and knowledgeable English-speaking driver/guide.\nA delicious and convenient picnic lunch.\nDrinking water in the vehicle.\n\nWhat’s Excluded: \n\nInternational flights and visa fees.\nPersonal travel insurance.\nDrinks and beverages not included with the meal.\nTips for the guide/driver (gratuity is appreciated).\nPersonal expenses (souvenirs\, etc.).\n\n\n 
URL:https://opportunesafaris.com/events/akagera-savannah-day-safari/
LOCATION:Akagera National Par\, Akagera National Park\, Rwanda
ATTACH;FMTTYPE=image/jpeg:https://opportunesafaris.com/wp-content/uploads/2025/05/JAY3389.jpg
END:VEVENT
BEGIN:VEVENT
DTSTART;TZID=UTC:20250829T080000
DTEND;TZID=UTC:20250830T170000
DTSTAMP:20260421T184721
CREATED:20250826T022723Z
LAST-MODIFIED:20250827T114915Z
UID:2117-1756454400-1756573200@opportunesafaris.com
SUMMARY:Nyungwe Canopy Group Tour
DESCRIPTION:Escape to the Heart of the Forest: Walk Among Giants!\nJoin Opportunte Safaris for an unforgettable 3-day road trip to the emerald heart of Rwanda\, the magnificent Nyungwe Forest National Park. This isn’t just a tour; it’s an immersive experience designed to connect you with the raw beauty of one of Africa’s oldest and most pristine mountain rainforests.\n\nThe highlight of our journey is the legendary Nyungwe Canopy Walk\, a breathtaking suspended bridge hovering 70 meters above the forest floor. Feel the thrill as you walk among the treetops\, enjoying a bird’s-eye view of the ancient forest and its vibrant inhabitants. But the adventure doesn’t stop there. We will also venture deep into the forest on a quest to track the intelligent and playful chimpanzees that call this magical place home.\n\nThis road trip is perfect for nature lovers\, adventure seekers\, and anyone looking to disconnect from the everyday and reconnect with the wild.\n\n\n\nTrip Itinerary:\nDay 1: Scenic Drive to Nyungwe & Tea Plantation Visit (Saturday)\n\n 	7:00 AM: Departure from Kigali. Our comfortable and spacious tour bus will pick you up from our designated meeting point.\n 	En Route: We’ll journey southwest\, witnessing the stunning\, rolling hills that give Rwanda its name\, “the Land of a Thousand Hills.” We will make a stop at the King’s Palace Museum in Nyanza for a fascinating glimpse into Rwanda’s royal history.\n\n 	1:00 PM: Arrive at our lodge near Nyungwe Forest\, check in\, and enjoy a delicious lunch.\n 	3:00 PM: Immerse yourself in the local landscape with a guided tour of the lush Gisakura Tea Plantations. Learn about the tea-making process from leaf to cup and savor the incredible panoramic views.\n 	7:00 PM: Dinner at the lodge\, followed by a relaxing evening under the stars\, listening to the sounds of the forest.\n\nDay 2: Chimpanzee Tracking & The Thrilling Canopy Walk (Sunday)\n\n 	5:00 AM: An early start with a packed breakfast as we head to the park headquarters for a briefing on our chimpanzee tracking adventure.\n\n 	6:00 AM: Begin our trek into the forest with experienced park rangers. The search for the chimpanzees is an adventure in itself\, filled with unique flora and the calls of exotic birds.\n 	Morning: Spend a magical hour observing the chimpanzee family in their natural habitat.\n 	12:30 PM: Return to the lodge for a well-deserved lunch and some rest.\n 	2:30 PM: Head out for the main event – the Nyungwe Canopy Walk! We’ll hike the Igishigishigi trail to reach the 160-meter-long suspended walkway. The views and the feeling of being suspended above the forest are truly once-in-a-lifetime.\n\n 	7:30 PM: Celebratory dinner at the lodge\, sharing stories and photos from an incredible day.\n\nDay 3: Return to Kigali (Monday)\n\n 	9:00 AM: Enjoy a final\, leisurely breakfast at the lodge.\n 	10:00 AM: Check out and begin our scenic drive back to Kigali.\n 	1:00 PM: We will make a stop for lunch in Huye.\n 	4:00 PM (approx.): Arrive back in Kigali\, where we will drop you off at the original meeting point\, filled with memories that will last a lifetime.\n\n\n\n\n \nTour Package Details:\n \n\nPrice: $450 USD per person (Based on double occupancy)\n\nWhat’s Included:\n\n 	Round-trip transportation from Kigali in a comfortable tour vehicle.\n 	2 nights’ accommodation in a mid-range lodge near Nyungwe National Park.\n 	All meals as specified in the itinerary (2 Breakfasts\, 3 Lunches\, 2 Dinners).\n 	Drinking water in the vehicle.\n 	All park entrance fees.\n 	1 Chimpanzee Tracking Permit per person.\n 	1 Canopy Walk Permit per person.\n 	A visit to the King’s Palace Museum.\n\n 	A guided tour of the Gisakura Tea Plantation.\n\n 	The services of a professional and knowledgeable English-speaking driver/guide.\n\nWhat’s Excluded:\n\n 	International flights and visa fees.\n 	Personal travel insurance.\n 	Drinks and beverages not included with meals.\n 	Tips for the guide\, driver\, and park rangers (gratuity is appreciated).\n 	Personal expenses (souvenirs\, laundry\, etc.).
URL:https://opportunesafaris.com/events/nyungwe-canopy-group-tour/
LOCATION:Akagera National Par\, Akagera National Park\, Rwanda
ATTACH;FMTTYPE=image/jpeg:https://opportunesafaris.com/wp-content/uploads/2023/01/nyungwe-trip.jpg
ORGANIZER;CN="Jackson":MAILTO:opportunesafaris2014@gmail.com
END:VEVENT
END:VCALENDAR